BEGIN:VCALENDAR
VERSION:2.0
PRODID:-//Arizona Christian University - Phoenix, AZ - ECPv6.15.20//NONSGML v1.0//EN
CALSCALE:GREGORIAN
METHOD:PUBLISH
X-WR-CALNAME:Arizona Christian University - Phoenix, AZ
X-ORIGINAL-URL:https://azcu.edu
X-WR-CALDESC:Events for Arizona Christian University - Phoenix, AZ
REFRESH-INTERVAL;VALUE=DURATION:PT1H
X-Robots-Tag:noindex
X-PUBLISHED-TTL:PT1H
BEGIN:VTIMEZONE
TZID:America/Phoenix
BEGIN:STANDARD
TZOFFSETFROM:-0700
TZOFFSETTO:-0700
TZNAME:MST
DTSTART:20250101T000000
END:STANDARD
END:VTIMEZONE
BEGIN:VEVENT
DTSTART;TZID=America/Phoenix:20260423T130000
DTEND;TZID=America/Phoenix:20260425T130000
DTSTAMP:20260421T122242
CREATED:20260217T004512Z
LAST-MODIFIED:20260421T052306Z
UID:10000125-1776949200-1777122000@azcu.edu
SUMMARY:Arizona Christian Unviversity  Men's Track and Field vs Great Southwest Athletic Conference - Outdoor Track & Field Championships
DESCRIPTION:Arizona Christian Unviversity  Men’s Track and Field vs Great Southwest Athletic Conference – Outdoor Track & Field Championships
URL:https://azcu.edu/event/arizona-christian-unviversity-mens-track-and-field-vs-golden-state-athletic-conference-gsasc-track-field-championships/
LOCATION:Aliso Viejo\, CA\, Soka University Track Complex\, University Drive 1\, Aliso Viejo\, California\, 92656\, United States
CATEGORIES:Men's Track & Field
GEO:33.5578916;-117.732131
X-APPLE-STRUCTURED-LOCATION;VALUE=URI;X-ADDRESS=Aliso Viejo CA Soka University Track Complex University Drive 1 Aliso Viejo California 92656 United States;X-APPLE-RADIUS=500;X-TITLE=University Drive 1:geo:-117.732131,33.5578916
END:VEVENT
BEGIN:VEVENT
DTSTART;TZID=America/Phoenix:20260520T100000
DTEND;TZID=America/Phoenix:20260522T100000
DTSTAMP:20260421T122242
CREATED:20260217T004512Z
LAST-MODIFIED:20260421T052307Z
UID:10000126-1779271200-1779444000@azcu.edu
SUMMARY:Arizona Christian Unviversity  Men's Track and Field vs NAIA - Outdoor Track & Field Championships
DESCRIPTION:Arizona Christian Unviversity  Men’s Track and Field vs NAIA – Outdoor Track & Field Championships
URL:https://azcu.edu/event/arizona-christian-unviversity-mens-track-and-field-vs-naia-outdoor-track-field-championships/
LOCATION:Ashville\, NC\, Karl Straus Track\, Wellness Way 600\, Asheville\, North Carolina\, 28804\, United States
CATEGORIES:Men's Track & Field
GEO:35.6168852;-82.5694412
X-APPLE-STRUCTURED-LOCATION;VALUE=URI;X-ADDRESS=Ashville NC Karl Straus Track Wellness Way 600 Asheville North Carolina 28804 United States;X-APPLE-RADIUS=500;X-TITLE=Wellness Way 600:geo:-82.5694412,35.6168852
END:VEVENT
END:VCALENDAR